Workbook

Sheet Départ
B1: TOURNOI DE FLIPPER DE :
B3: nombre de participants
B5: nombre de flippers
B7: Feuille de score à imprimer

Sheet Noms des participants
I1: RETOUR
B3: =IF(E3<=0,"Nom du joueur","") | C3: =IF(E3<=0,D3,"") | D3: 1 | E3: =D3-Départ!$D$3 -> 1
B4: =IF(E4<=0,"Nom du joueur","") | C4: =IF(E4<=0,D4,"") | D4: 2 | E4: =D4-Départ!$D$3 -> 2
B5: =IF(E5<=0,"Nom du joueur","") | C5: =IF(E5<=0,D5,"") | D5: 3 | E5: =D5-Départ!$D$3 -> 3
B6: =IF(E6<=0,"Nom du joueur","") | C6: =IF(E6<=0,D6,"") | D6: 4 | E6: =D6-Départ!$D$3 -> 4
B7: =IF(E7<=0,"Nom du joueur","") | C7: =IF(E7<=0,D7,"") | D7: 5 | E7: =D7-Départ!$D$3 -> 5
B8: =IF(E8<=0,"Nom du joueur","") | C8: =IF(E8<=0,D8,"") | D8: 6 | E8: =D8-Départ!$D$3 -> 6
B9: =IF(E9<=0,"Nom du joueur","") | C9: =IF(E9<=0,D9,"") | D9: 7 | E9: =D9-Départ!$D$3 -> 7
B10: =IF(E10<=0,"Nom du joueur","") | C10: =IF(E10<=0,D10,"") | D10: 8 | E10: =D10-Départ!$D$3 -> 8
B11: =IF(E11<=0,"Nom du joueur","") | C11: =IF(E11<=0,D11,"") | D11: 9 | E11: =D11-Départ!$D$3 -> 9
B12: =IF(E12<=0,"Nom du joueur","") | C12: =IF(E12<=0,D12,"") | D12: 10 | E12: =D12-Départ!$D$3 -> 10
B13: =IF(E13<=0,"Nom du joueur","") | C13: =IF(E13<=0,D13,"") | D13: 11 | E13: =D13-Départ!$D$3 -> 11
B14: =IF(E14<=0,"Nom du joueur","") | C14: =IF(E14<=0,D14,"") | D14: 12 | E14: =D14-Départ!$D$3 -> 12
... B26: =IF(E26<=0,"Nom du joueur","") | C26: =IF(E26<=0,D26,"") | D26: 24 | E26: =D26-Départ!$D$3 -> 24

Sheet Flippers
B3: =IF(E3<=0,"Flipper n°","") | C3: =IF(E3<=0,D3,"") | D3: 1 | E3: =D3-Départ!$D$5 -> 1 | G3: =IF(F3>0,"Go =>","")
B4: =IF(E4<=0,"Flipper n°","") | C4: =IF(E4<=0,D4,"") | D4: 2 | E4: =D4-Départ!$D$5 -> 2 | G4: =IF(F4>0,"Go =>","")
B5: =IF(E5<=0,"Flipper n°","") | C5: =IF(E5<=0,D5,"") | D5: 3 | E5: =D5-Départ!$D$5 -> 3 | G5: =IF(F5>0,"Go =>","")
B6: =IF(E6<=0,"Flipper n°","") | C6: =IF(E6<=0,D6,"") | D6: 4 | E6: =D6-Départ!$D$5 -> 4 | G6: =IF(F6>0,"Go =>","")
B7: =IF(E7<=0,"Flipper n°","") | C7: =IF(E7<=0,D7,"") | D7: 5 | E7: =D7-Départ!$D$5 -> 5 | G7: =IF(F7>0,"Go =>","")
B8: =IF(E8<=0,"Flipper n°","") | C8: =IF(E8<=0,D8,"") | D8: 6 | E8: =D8-Départ!$D$5 -> 6 | G8: =IF(F8>0,"Go =>","")
B9: =IF(E9<=0,"Flipper n°","") | C9: =IF(E9<=0,D9,"") | D9: 7 | E9: =D9-Départ!$D$5 -> 7 | G9: =IF(F9>0,"Go =>","")
B10: =IF(E10<=0,"Flipper n°","") | C10: =IF(E10<=0,D10,"") | D10: 8 | E10: =D10-Départ!$D$5 -> 8 | G10: =IF(F10>0,"Go =>","")
B11: =IF(E11<=0,"Flipper n°","") | C11: =IF(E11<=0,D11,"") | D11: 9 | E11: =D11-Départ!$D$5 -> 9 | G11: =IF(F11>0,"Go =>","")
B12: =IF(E12<=0,"Flipper n°","") | C12: =IF(E12<=0,D12,"") | D12: 10 | E12: =D12-Départ!$D$5 -> 10 | G12: =IF(F12>0,"Go =>","")
B13: =IF(E13<=0,"Flipper n°","") | C13: =IF(E13<=0,D13,"") | D13: 11 | E13: =D13-Départ!$D$5 -> 11
B14: =IF(E14<=0,"Flipper n°","") | C14: =IF(E14<=0,D14,"") | D14: 12 | E14: =D14-Départ!$D$5 -> 12
B15: =IF(E15<=0,"Flipper n°","") | C15: =IF(E15<=0,D15,"") | D15: 13 | E15: =D15-Départ!$D$5 -> 13
B16: =IF(E16<=0,"Flipper n°","") | C16: =IF(E16<=0,D16,"") | D16: 14 | E16: =D16-Départ!$D$5 -> 14
B17: =IF(E17<=0,"Flipper n°","") | C17: =IF(E17<=0,D17,"") | D17: 15 | E17: =D17-Départ!$D$5 -> 15
B18: =IF(E18<=0,"Flipper n°","") | C18: =IF(E18<=0,D18,"") | D18: 16 | E18: =D18-Départ!$D$5 -> 16
B19: =IF(E19<=0,"Flipper n°","") | C19: =IF(E19<=0,D19,"") | D19: 17 | E19: =D19-Départ!$D$5 -> 17
B20: =IF(E20<=0,"Flipper n°","") | C20: =IF(E20<=0,D20,"") | D20: 18 | E20: =D20-Départ!$D$5 -> 18
B21: =IF(E21<=0,"Flipper n°","") | C21: =IF(E21<=0,D21,"") | D21: 19 | E21: =D21-Départ!$D$5 -> 19
B22: =IF(E22<=0,"Flipper n°","") | C22: =IF(E22<=0,D22,"") | D22: 20 | E22: =D22-Départ!$D$5 -> 20
B23: =IF(E23<=0,"Flipper n°","") | C23: =IF(E23<=0,D23,"") | D23: 21 | E23: =D23-Départ!$D$5 -> 21
B24: =IF(E24<=0,"Flipper n°","") | C24: =IF(E24<=0,D24,"") | D24: 22 | E24: =D24-Départ!$D$5 -> 22
... B26: =IF(E26<=0,"Flipper n°","") | C26: =IF(E26<=0,D26,"") | D26: 24 | E26: =D26-Départ!$D$5 -> 24

Sheet Classement
B2: Classement | C2: Joueur | D2: Nombre de points
B3: =IFERROR(IF(D3>0,RANK(D3,$D$3:$D$26,1),0),0) -> 0 | C3: =IF('Noms des participants'!F3>0,'Noms des participants'!F3,0) -> 0 | D3: =IF(C3>0,SUM('Flipper 1'!D7+'Flipper 2'!D7+'Flipper 3'!D7+'Flipper 4'!D7+'Flipper 5'!D7+'Flipper 6'!D7+'Flipper 7'!D7+'Flipper 8'!D7+'Flipper 9'!D7+'Flipper 10'!D7),"")
B4: =IFERROR(IF(D4>0,RANK(D4,$D$3:$D$26,1),0),0) -> 0 | C4: =IF('Noms des participants'!F4>0,'Noms des participants'!F4,0) -> 0 | D4: =IF(C4>0,SUM('Flipper 1'!D8+'Flipper 2'!D8+'Flipper 3'!D8+'Flipper 4'!D8+'Flipper 5'!D8+'Flipper 6'!D8+'Flipper 7'!D8+'Flipper 8'!D8+'Flipper 9'!D8+'Flipper 10'!D8),"")
B5: =IFERROR(IF(D5>0,RANK(D5,$D$3:$D$26,1),0),0) -> 0 | C5: =IF('Noms des participants'!F5>0,'Noms des participants'!F5,0) -> 0 | D5: =IF(C5>0,SUM('Flipper 1'!D9+'Flipper 2'!D9+'Flipper 3'!D9+'Flipper 4'!D9+'Flipper 5'!D9+'Flipper 6'!D9+'Flipper 7'!D9+'Flipper 8'!D9+'Flipper 9'!D9+'Flipper 10'!D9),"")
B6: =IFERROR(IF(D6>0,RANK(D6,$D$3:$D$26,1),0),0) -> 0 | C6: =IF('Noms des participants'!F6>0,'Noms des participants'!F6,0) -> 0 | D6: =IF(C6>0,SUM('Flipper 1'!D10+'Flipper 2'!D10+'Flipper 3'!D10+'Flipper 4'!D10+'Flipper 5'!D10+'Flipper 6'!D10+'Flipper 7'!D10+'Flipper 8'!D10+'Flipper 9'!D10+'Flipper 10'!D10),"")
B7: =IFERROR(IF(D7>0,RANK(D7,$D$3:$D$26,1),0),0) -> 0 | C7: =IF('Noms des participants'!F7>0,'Noms des participants'!F7,0) -> 0 | D7: =IF(C7>0,SUM('Flipper 1'!D11+'Flipper 2'!D11+'Flipper 3'!D11+'Flipper 4'!D11+'Flipper 5'!D11+'Flipper 6'!D11+'Flipper 7'!D11+'Flipper 8'!D11+'Flipper 9'!D11+'Flipper 10'!D11),"")
B8: =IFERROR(IF(D8>0,RANK(D8,$D$3:$D$26,1),0),0) -> 0 | C8: =IF('Noms des participants'!F8>0,'Noms des participants'!F8,0) -> 0 | D8: =IF(C8>0,SUM('Flipper 1'!D12+'Flipper 2'!D12+'Flipper 3'!D12+'Flipper 4'!D12+'Flipper 5'!D12+'Flipper 6'!D12+'Flipper 7'!D12+'Flipper 8'!D12+'Flipper 9'!D12+'Flipper 10'!D12),"")
B9: =IFERROR(IF(D9>0,RANK(D9,$D$3:$D$26,1),0),0) -> 0 | C9: =IF('Noms des participants'!F9>0,'Noms des participants'!F9,0) -> 0 | D9: =IF(C9>0,SUM('Flipper 1'!D13+'Flipper 2'!D13+'Flipper 3'!D13+'Flipper 4'!D13+'Flipper 5'!D13+'Flipper 6'!D13+'Flipper 7'!D13+'Flipper 8'!D13+'Flipper 9'!D13+'Flipper 10'!D13),"")
B10: =IFERROR(IF(D10>0,RANK(D10,$D$3:$D$26,1),0),0) -> 0 | C10: =IF('Noms des participants'!F10>0,'Noms des participants'!F10,0) -> 0 | D10: =IF(C10>0,SUM('Flipper 1'!D14+'Flipper 2'!D14+'Flipper 3'!D14+'Flipper 4'!D14+'Flipper 5'!D14+'Flipper 6'!D14+'Flipper 7'!D14+'Flipper 8'!D14+'Flipper 9'!D14+'Flipper 10'!D14),"")
B11: =IFERROR(IF(D11>0,RANK(D11,$D$3:$D$26,1),0),0) -> 0 | C11: =IF('Noms des participants'!F11>0,'Noms des participants'!F11,0) -> 0 | D11: =IF(C11>0,SUM('Flipper 1'!D15+'Flipper 2'!D15+'Flipper 3'!D15+'Flipper 4'!D15+'Flipper 5'!D15+'Flipper 6'!D15+'Flipper 7'!D15+'Flipper 8'!D15+'Flipper 9'!D15+'Flipper 10'!D15),"")
B12: =IFERROR(IF(D12>0,RANK(D12,$D$3:$D$26,1),0),0) -> 0 | C12: =IF('Noms des participants'!F12>0,'Noms des participants'!F12,0) -> 0 | D12: =IF(C12>0,SUM('Flipper 1'!D16+'Flipper 2'!D16+'Flipper 3'!D16+'Flipper 4'!D16+'Flipper 5'!D16+'Flipper 6'!D16+'Flipper 7'!D16+'Flipper 8'!D16+'Flipper 9'!D16+'Flipper 10'!D16),"")
B13: =IFERROR(IF(D13>0,RANK(D13,$D$3:$D$26,1),0),0) -> 0 | C13: =IF('Noms des participants'!F13>0,'Noms des participants'!F13,0) -> 0 | D13: =IF(C13>0,SUM('Flipper 1'!D17+'Flipper 2'!D17+'Flipper 3'!D17+'Flipper 4'!D17+'Flipper 5'!D17+'Flipper 6'!D17+'Flipper 7'!D17+'Flipper 8'!D17+'Flipper 9'!D17+'Flipper 10'!D17),"")
B14: =IFERROR(IF(D14>0,RANK(D14,$D$3:$D$26,1),0),0) -> 0 | C14: =IF('Noms des participants'!F14>0,'Noms des participants'!F14,0) -> 0 | D14: =IF(C14>0,SUM('Flipper 1'!D18+'Flipper 2'!D18+'Flipper 3'!D18+'Flipper 4'!D18+'Flipper 5'!D18+'Flipper 6'!D18+'Flipper 7'!D18+'Flipper 8'!D18+'Flipper 9'!D18+'Flipper 10'!D18),"")
... B26: =IFERROR(IF(D26>0,RANK(D26,$D$3:$D$26,1),0),0) -> 0 | C26: =IF('Noms des participants'!F26>0,'Noms des participants'!F26,0) -> 0 | D26: =IF(C26>0,SUM('Flipper 1'!D30+'Flipper 2'!D30+'Flipper 3'!D30+'Flipper 4'!D30+'Flipper 5'!D30+'Flipper 6'!D30+'Flipper 7'!D30+'Flipper 8'!D30+'Flipper 9'!D30+'Flipper 10'!D30),"")

Sheet Podium
C3: =VLOOKUP(1,Classement!$B$3:$C$26,2,FALSE) -> #N/A
B5: =VLOOKUP(2,Classement!$B$3:$C$26,2,FALSE) -> #N/A
D7: =VLOOKUP(3,Classement!$B$3:$C$26,2,FALSE) -> #N/A

Sheet Global Flippers
B2: =IF(Flippers!F3>0,Flippers!F3,0) -> 0 | F2: =IF(Flippers!F4>0,Flippers!F4,0) -> 0 | J2: =IF(Flippers!F5>0,Flippers!F5,0) -> 0 | N2: =IF(Flippers!F6>0,Flippers!F6,0) -> 0 | R2: =IF(Flippers!F7>0,Flippers!F7,0) -> 0
B6: Joueur | C6: Score | D6: Rang | F6: Joueur | G6: Score | H6: Rang | J6: Joueur | K6: Score | L6: Rang | N6: Joueur | O6: Score | P6: Rang | R6: Joueur | S6: Score | T6: Rang
B7: =IF($B$2>0,(IF('Noms des participants'!F3>0,'Noms des participants'!F3,"")),"") | C7: ='Flipper 1'!C7 -> 0 | D7: =IF(C7>0,RANK(C7,$C$7:$C$30,0),0) -> 0 | F7: =IF($F$2>0,(IF('Noms des participants'!F3>0,'Noms des participants'!F3,"")),"") | G7: ='Flipper 2'!C7 -> 0 | H7: =IF(G7>0,RANK(G7,$G$7:$G$30,0),0) -> 0 | J7: =IF($J$2>0,(IF('Noms des participants'!F3>0,'Noms des participants'!F3,"")),"") | K7: ='Flipper 3'!C7 -> 0 | L7: =IF(K7>0,RANK(K7,$K$7:$K$30,0),0) -> 0 | N7: =IF($N$2>0,(IF('Noms des participants'!F3>0,'Noms des participants'!F3,"")),"") | O7: ='Flipper 4'!C7 -> 0 | P7: =IF(O7>0,RANK(O7,$O$7:$O$30,0),0) -> 0 | R7: =IF($R$2>0,(IF('Noms des participants'!F3>0,'Noms des participants'!F3,"")),"") | S7: ='Flipper 5'!C7 -> 0 | T7: =IF(S7>0,RANK(S7,$S$7:$S$30,0),0) -> 0
B8: =IF($B$2>0,(IF('Noms des participants'!F4>0,'Noms des participants'!F4,"")),"") | C8: ='Flipper 1'!C8 -> 0 | D8: =IF(C8>0,RANK(C8,$C$7:$C$30,0),0) -> 0 | F8: =IF($F$2>0,(IF('Noms des participants'!F4>0,'Noms des participants'!F4,"")),"") | G8: ='Flipper 2'!C8 -> 0 | H8: =IF(G8>0,RANK(G8,$G$7:$G$30,0),0) -> 0 | J8: =IF($J$2>0,(IF('Noms des participants'!F4>0,'Noms des participants'!F4,"")),"") | K8: ='Flipper 3'!C8 -> 0 | L8: =IF(K8>0,RANK(K8,$K$7:$K$30,0),0) -> 0 | N8: =IF($N$2>0,(IF('Noms des participants'!F4>0,'Noms des participants'!F4,"")),"") | O8: ='Flipper 4'!C8 -> 0 | P8: =IF(O8>0,RANK(O8,$O$7:$O$30,0),0) -> 0 | R8: =IF($R$2>0,(IF('Noms des participants'!F4>0,'Noms des participants'!F4,"")),"") | S8: ='Flipper 5'!C8 -> 0 | T8: =IF(S8>0,RANK(S8,$S$7:$S$30,0),0) -> 0
B9: =IF($B$2>0,(IF('Noms des participants'!F5>0,'Noms des participants'!F5,"")),"") | C9: ='Flipper 1'!C9 -> 0 | D9: =IF(C9>0,RANK(C9,$C$7:$C$30,0),0) -> 0 | F9: =IF($F$2>0,(IF('Noms des participants'!F5>0,'Noms des participants'!F5,"")),"") | G9: ='Flipper 2'!C9 -> 0 | H9: =IF(G9>0,RANK(G9,$G$7:$G$30,0),0) -> 0 | J9: =IF($J$2>0,(IF('Noms des participants'!F5>0,'Noms des participants'!F5,"")),"") | K9: ='Flipper 3'!C9 -> 0 | L9: =IF(K9>0,RANK(K9,$K$7:$K$30,0),0) -> 0 | N9: =IF($N$2>0,(IF('Noms des participants'!F5>0,'Noms des participants'!F5,"")),"") | O9: ='Flipper 4'!C9 -> 0 | P9: =IF(O9>0,RANK(O9,$O$7:$O$30,0),0) -> 0 | R9: =IF($R$2>0,(IF('Noms des participants'!F5>0,'Noms des participants'!F5,"")),"") | S9: ='Flipper 5'!C9 -> 0 | T9: =IF(S9>0,RANK(S9,$S$7:$S$30,0),0) -> 0
B10: =IF($B$2>0,(IF('Noms des participants'!F6>0,'Noms des participants'!F6,"")),"") | C10: ='Flipper 1'!C10 -> 0 | D10: =IF(C10>0,RANK(C10,$C$7:$C$30,0),0) -> 0 | F10: =IF($F$2>0,(IF('Noms des participants'!F6>0,'Noms des participants'!F6,"")),"") | G10: ='Flipper 2'!C10 -> 0 | H10: =IF(G10>0,RANK(G10,$G$7:$G$30,0),0) -> 0 | J10: =IF($J$2>0,(IF('Noms des participants'!F6>0,'Noms des participants'!F6,"")),"") | K10: ='Flipper 3'!C10 -> 0 | L10: =IF(K10>0,RANK(K10,$K$7:$K$30,0),0) -> 0 | N10: =IF($N$2>0,(IF('Noms des participants'!F6>0,'Noms des participants'!F6,"")),"") | O10: ='Flipper 4'!C10 -> 0 | P10: =IF(O10>0,RANK(O10,$O$7:$O$30,0),0) -> 0 | R10: =IF($R$2>0,(IF('Noms des participants'!F6>0,'Noms des participants'!F6,"")),"") | S10: ='Flipper 5'!C10 -> 0 | T10: =IF(S10>0,RANK(S10,$S$7:$S$30,0),0) -> 0
B11: =IF($B$2>0,(IF('Noms des participants'!F7>0,'Noms des participants'!F7,"")),"") | C11: ='Flipper 1'!C11 -> 0 | D11: =IF(C11>0,RANK(C11,$C$7:$C$30,0),0) -> 0 | F11: =IF($F$2>0,(IF('Noms des participants'!F7>0,'Noms des participants'!F7,"")),"") | G11: ='Flipper 2'!C11 -> 0 | H11: =IF(G11>0,RANK(G11,$G$7:$G$30,0),0) -> 0 | J11: =IF($J$2>0,(IF('Noms des participants'!F7>0,'Noms des participants'!F7,"")),"") | K11: ='Flipper 3'!C11 -> 0 | L11: =IF(K11>0,RANK(K11,$K$7:$K$30,0),0) -> 0 | N11: =IF($N$2>0,(IF('Noms des participants'!F7>0,'Noms des participants'!F7,"")),"") | O11: ='Flipper 4'!C11 -> 0 | P11: =IF(O11>0,RANK(O11,$O$7:$O$30,0),0) -> 0 | R11: =IF($R$2>0,(IF('Noms des participants'!F7>0,'Noms des participants'!F7,"")),"") | S11: ='Flipper 5'!C11 -> 0 | T11: =IF(S11>0,RANK(S11,$S$7:$S$30,0),0) -> 0
B12: =IF($B$2>0,(IF('Noms des participants'!F8>0,'Noms des participants'!F8,"")),"") | C12: ='Flipper 1'!C12 -> 0 | D12: =IF(C12>0,RANK(C12,$C$7:$C$30,0),0) -> 0 | F12: =IF($F$2>0,(IF('Noms des participants'!F8>0,'Noms des participants'!F8,"")),"") | G12: ='Flipper 2'!C12 -> 0 | H12: =IF(G12>0,RANK(G12,$G$7:$G$30,0),0) -> 0 | J12: =IF($J$2>0,(IF('Noms des participants'!F8>0,'Noms des participants'!F8,"")),"") | K12: ='Flipper 3'!C12 -> 0 | L12: =IF(K12>0,RANK(K12,$K$7:$K$30,0),0) -> 0 | N12: =IF($N$2>0,(IF('Noms des participants'!F8>0,'Noms des participants'!F8,"")),"") | O12: ='Flipper 4'!C12 -> 0 | P12: =IF(O12>0,RANK(O12,$O$7:$O$30,0),0) -> 0 | R12: =IF($R$2>0,(IF('Noms des participants'!F8>0,'Noms des participants'!F8,"")),"") | S12: ='Flipper 5'!C12 -> 0 | T12: =IF(S12>0,RANK(S12,$S$7:$S$30,0),0) -> 0
B13: =IF($B$2>0,(IF('Noms des participants'!F9>0,'Noms des participants'!F9,"")),"") | C13: ='Flipper 1'!C13 -> 0 | D13: =IF(C13>0,RANK(C13,$C$7:$C$30,0),0) -> 0 | F13: =IF($F$2>0,(IF('Noms des participants'!F9>0,'Noms des participants'!F9,"")),"") | G13: ='Flipper 2'!C13 -> 0 | H13: =IF(G13>0,RANK(G13,$G$7:$G$30,0),0) -> 0 | J13: =IF($J$2>0,(IF('Noms des participants'!F9>0,'Noms des participants'!F9,"")),"") | K13: ='Flipper 3'!C13 -> 0 | L13: =IF(K13>0,RANK(K13,$K$7:$K$30,0),0) -> 0 | N13: =IF($N$2>0,(IF('Noms des participants'!F9>0,'Noms des participants'!F9,"")),"") | O13: ='Flipper 4'!C13 -> 0 | P13: =IF(O13>0,RANK(O13,$O$7:$O$30,0),0) -> 0 | R13: =IF($R$2>0,(IF('Noms des participants'!F9>0,'Noms des participants'!F9,"")),"") | S13: ='Flipper 5'!C13 -> 0 | T13: =IF(S13>0,RANK(S13,$S$7:$S$30,0),0) -> 0
B14: =IF($B$2>0,(IF('Noms des participants'!F10>0,'Noms des participants'!F10,"")),"") | C14: ='Flipper 1'!C14 -> 0 | D14: =IF(C14>0,RANK(C14,$C$7:$C$30,0),0) -> 0 | F14: =IF($F$2>0,(IF('Noms des participants'!F10>0,'Noms des participants'!F10,"")),"") | G14: ='Flipper 2'!C14 -> 0 | H14: =IF(G14>0,RANK(G14,$G$7:$G$30,0),0) -> 0 | J14: =IF($J$2>0,(IF('Noms des participants'!F10>0,'Noms des participants'!F10,"")),"") | K14: ='Flipper 3'!C14 -> 0 | L14: =IF(K14>0,RANK(K14,$K$7:$K$30,0),0) -> 0 | N14: =IF($N$2>0,(IF('Noms des participants'!F10>0,'Noms des participants'!F10,"")),"") | O14: ='Flipper 4'!C14 -> 0 | P14: =IF(O14>0,RANK(O14,$O$7:$O$30,0),0) -> 0 | R14: =IF($R$2>0,(IF('Noms des participants'!F10>0,'Noms des participants'!F10,"")),"") | S14: ='Flipper 5'!C14 -> 0 | T14: =IF(S14>0,RANK(S14,$S$7:$S$30,0),0) -> 0
B15: =IF($B$2>0,(IF('Noms des participants'!F11>0,'Noms des participants'!F11,"")),"") | C15: ='Flipper 1'!C15 -> 0 | D15: =IF(C15>0,RANK(C15,$C$7:$C$30,0),0) -> 0 | F15: =IF($F$2>0,(IF('Noms des participants'!F11>0,'Noms des participants'!F11,"")),"") | G15: ='Flipper 2'!C15 -> 0 | H15: =IF(G15>0,RANK(G15,$G$7:$G$30,0),0) -> 0 | J15: =IF($J$2>0,(IF('Noms des participants'!F11>0,'Noms des participants'!F11,"")),"") | K15: ='Flipper 3'!C15 -> 0 | L15: =IF(K15>0,RANK(K15,$K$7:$K$30,0),0) -> 0 | N15: =IF($N$2>0,(IF('Noms des participants'!F11>0,'Noms des participants'!F11,"")),"") | O15: ='Flipper 4'!C15 -> 0 | P15: =IF(O15>0,RANK(O15,$O$7:$O$30,0),0) -> 0 | R15: =IF($R$2>0,(IF('Noms des participants'!F11>0,'Noms des participants'!F11,"")),"") | S15: ='Flipper 5'!C15 -> 0 | T15: =IF(S15>0,RANK(S15,$S$7:$S$30,0),0) -> 0
B16: =IF($B$2>0,(IF('Noms des participants'!F12>0,'Noms des participants'!F12,"")),"") | C16: ='Flipper 1'!C16 -> 0 | D16: =IF(C16>0,RANK(C16,$C$7:$C$30,0),0) -> 0 | F16: =IF($F$2>0,(IF('Noms des participants'!F12>0,'Noms des participants'!F12,"")),"") | G16: ='Flipper 2'!C16 -> 0 | H16: =IF(G16>0,RANK(G16,$G$7:$G$30,0),0) -> 0 | J16: =IF($J$2>0,(IF('Noms des participants'!F12>0,'Noms des participants'!F12,"")),"") | K16: ='Flipper 3'!C16 -> 0 | L16: =IF(K16>0,RANK(K16,$K$7:$K$30,0),0) -> 0 | N16: =IF($N$2>0,(IF('Noms des participants'!F12>0,'Noms des participants'!F12,"")),"") | O16: ='Flipper 4'!C16 -> 0 | P16: =IF(O16>0,RANK(O16,$O$7:$O$30,0),0) -> 0 | R16: =IF($R$2>0,(IF('Noms des participants'!F12>0,'Noms des participants'!F12,"")),"") | S16: ='Flipper 5'!C16 -> 0 | T16: =IF(S16>0,RANK(S16,$S$7:$S$30,0),0) -> 0
B17: =IF($B$2>0,(IF('Noms des participants'!F13>0,'Noms des participants'!F13,"")),"") | C17: ='Flipper 1'!C17 -> 0 | D17: =IF(C17>0,RANK(C17,$C$7:$C$30,0),0) -> 0 | F17: =IF($F$2>0,(IF('Noms des participants'!F13>0,'Noms des participants'!F13,"")),"") | G17: ='Flipper 2'!C17 -> 0 | H17: =IF(G17>0,RANK(G17,$G$7:$G$30,0),0) -> 0 | J17: =IF($J$2>0,(IF('Noms des participants'!F13>0,'Noms des participants'!F13,"")),"") | K17: ='Flipper 3'!C17 -> 0 | L17: =IF(K17>0,RANK(K17,$K$7:$K$30,0),0) -> 0 | N17: =IF($N$2>0,(IF('Noms des participants'!F13>0,'Noms des participants'!F13,"")),"") | O17: ='Flipper 4'!C17 -> 0 | P17: =IF(O17>0,RANK(O17,$O$7:$O$30,0),0) -> 0 | R17: =IF($R$2>0,(IF('Noms des participants'!F13>0,'Noms des participants'!F13,"")),"") | S17: ='Flipper 5'!C17 -> 0 | T17: =IF(S17>0,RANK(S17,$S$7:$S$30,0),0) -> 0
B18: =IF($B$2>0,(IF('Noms des participants'!F14>0,'Noms des participants'!F14,"")),"") | C18: ='Flipper 1'!C18 -> 0 | D18: =IF(C18>0,RANK(C18,$C$7:$C$30,0),0) -> 0 | F18: =IF($F$2>0,(IF('Noms des participants'!F14>0,'Noms des participants'!F14,"")),"") | G18: ='Flipper 2'!C18 -> 0 | H18: =IF(G18>0,RANK(G18,$G$7:$G$30,0),0) -> 0 | J18: =IF($J$2>0,(IF('Noms des participants'!F14>0,'Noms des participants'!F14,"")),"") | K18: ='Flipper 3'!C18 -> 0 | L18: =IF(K18>0,RANK(K18,$K$7:$K$30,0),0) -> 0 | N18: =IF($N$2>0,(IF('Noms des participants'!F14>0,'Noms des participants'!F14,"")),"") | O18: ='Flipper 4'!C18 -> 0 | P18: =IF(O18>0,RANK(O18,$O$7:$O$30,0),0) -> 0 | R18: =IF($R$2>0,(IF('Noms des participants'!F14>0,'Noms des participants'!F14,"")),"") | S18: ='Flipper 5'!C18 -> 0 | T18: =IF(S18>0,RANK(S18,$S$7:$S$30,0),0) -> 0
... B30: =IF($B$2>0,(IF('Noms des participants'!F26>0,'Noms des participants'!F26,"")),"") | C30: ='Flipper 1'!C30 -> 0 | D30: =IF(C30>0,RANK(C30,$C$7:$C$30,0),0) -> 0 | F30: =IF($F$2>0,(IF('Noms des participants'!F26>0,'Noms des participants'!F26,"")),"") | G30: ='Flipper 2'!C30 -> 0 | H30: =IF(G30>0,RANK(G30,$G$7:$G$30,0),0) -> 0 | J30: =IF($J$2>0,(IF('Noms des participants'!F26>0,'Noms des participants'!F26,"")),"") | K30: ='Flipper 3'!C30 -> 0 | L30: =IF(K30>0,RANK(K30,$K$7:$K$30,0),0) -> 0 | N30: =IF($N$2>0,(IF('Noms des participants'!F26>0,'Noms des participants'!F26,"")),"") | O30: ='Flipper 4'!C30 -> 0 | P30: =IF(O30>0,RANK(O30,$O$7:$O$30,0),0) -> 0 | R30: =IF($R$2>0,(IF('Noms des participants'!F26>0,'Noms des participants'!F26,"")),"") | S30: ='Flipper 5'!C30 -> 0 | T30: =IF(S30>0,RANK(S30,$S$7:$S$30,0),0) -> 0
B32: =IF(Flippers!F8>0,Flippers!F8,0) -> 0 | F32: =IF(Flippers!F9>0,Flippers!F9,0) -> 0 | J32: =IF(Flippers!F10>0,Flippers!F10,0) -> 0 | N32: =IF(Flippers!F11>0,Flippers!F11,0) -> 0 | R32: =IF(Flippers!F12>0,Flippers!F12,0) -> 0
B36: Joueur | C36: Score | D36: Rang | F36: Joueur | G36: Score | H36: Rang | J36: Joueur | K36: Score | L36: Rang | N36: Joueur | O36: Score | P36: Rang | R36: Joueur | S36: Score | T36: Rang
B37: =IF($B$32>0,(IF('Noms des participants'!F3>0,'Noms des participants'!F3,"")),"") | C37: ='Flipper 6'!C7 -> 0 | D37: =IF(C37>0,RANK(C37,$C$37:$C$60,0),0) -> 0 | F37: =IF($F$32>0,(IF('Noms des participants'!F3>0,'Noms des participants'!F3,"")),"") | G37: ='Flipper 7'!C7 -> 0 | H37: =IF(G37>0,RANK(G37,$G$37:$G$60,0),0) -> 0 | J37: =IF($J$32>0,(IF('Noms des participants'!F3>0,'Noms des participants'!F3,"")),"") | K37: ='Flipper 8'!C7 -> 0 | L37: =IF(K37>0,RANK(K37,$K$37:$K$60,0),0) -> 0 | N37: =IF($N$32>0,(IF('Noms des participants'!F3>0,'Noms des participants'!F3,"")),"") | O37: ='Flipper 9'!C7 -> 0 | P37: =IF(O37>0,RANK(O37,$O$37:$O$60,0),0) -> 0 | R37: =IF($R$32>0,(IF('Noms des participants'!F3>0,'Noms des participants'!F3,"")),"") | S37: ='Flipper 10'!C7 -> 0 | T37: =IF(S37>0,RANK(S37,$S$37:$S$60,0),0) -> 0
B38: =IF($B$32>0,(IF('Noms des participants'!F4>0,'Noms des participants'!F4,"")),"") | C38: ='Flipper 6'!C8 -> 0 | D38: =IF(C38>0,RANK(C38,$C$37:$C$60,0),0) -> 0 | F38: =IF($F$32>0,(IF('Noms des participants'!F4>0,'Noms des participants'!F4,"")),"") | G38: ='Flipper 7'!C8 -> 0 | H38: =IF(G38>0,RANK(G38,$G$37:$G$60,0),0) -> 0 | J38: =IF($J$32>0,(IF('Noms des participants'!F4>0,'Noms des participants'!F4,"")),"") | K38: ='Flipper 8'!C8 -> 0 | L38: =IF(K38>0,RANK(K38,$K$37:$K$60,0),0) -> 0 | N38: =IF($N$32>0,(IF('Noms des participants'!F4>0,'Noms des participants'!F4,"")),"") | O38: ='Flipper 9'!C8 -> 0 | P38: =IF(O38>0,RANK(O38,$O$37:$O$60,0),0) -> 0 | R38: =IF($R$32>0,(IF('Noms des participants'!F4>0,'Noms des participants'!F4,"")),"") | S38: ='Flipper 10'!C8 -> 0 | T38: =IF(S38>0,RANK(S38,$S$37:$S$60,0),0) -> 0
B39: =IF($B$32>0,(IF('Noms des participants'!F5>0,'Noms des participants'!F5,"")),"") | C39: ='Flipper 6'!C9 -> 0 | D39: =IF(C39>0,RANK(C39,$C$37:$C$60,0),0) -> 0 | F39: =IF($F$32>0,(IF('Noms des participants'!F5>0,'Noms des participants'!F5,"")),"") | G39: ='Flipper 7'!C9 -> 0 | H39: =IF(G39>0,RANK(G39,$G$37:$G$60,0),0) -> 0 | J39: =IF($J$32>0,(IF('Noms des participants'!F5>0,'Noms des participants'!F5,"")),"") | K39: ='Flipper 8'!C9 -> 0 | L39: =IF(K39>0,RANK(K39,$K$37:$K$60,0),0) -> 0 | N39: =IF($N$32>0,(IF('Noms des participants'!F5>0,'Noms des participants'!F5,"")),"") | O39: ='Flipper 9'!C9 -> 0 | P39: =IF(O39>0,RANK(O39,$O$37:$O$60,0),0) -> 0 | R39: =IF($R$32>0,(IF('Noms des participants'!F5>0,'Noms des participants'!F5,"")),"") | S39: ='Flipper 10'!C9 -> 0 | T39: =IF(S39>0,RANK(S39,$S$37:$S$60,0),0) -> 0
B40: =IF($B$32>0,(IF('Noms des participants'!F6>0,'Noms des participants'!F6,"")),"") | C40: ='Flipper 6'!C10 -> 0 | D40: =IF(C40>0,RANK(C40,$C$37:$C$60,0),0) -> 0 | F40: =IF($F$32>0,(IF('Noms des participants'!F6>0,'Noms des participants'!F6,"")),"") | G40: ='Flipper 7'!C10 -> 0 | H40: =IF(G40>0,RANK(G40,$G$37:$G$60,0),0) -> 0 | J40: =IF($J$32>0,(IF('Noms des participants'!F6>0,'Noms des participants'!F6,"")),"") | K40: ='Flipper 8'!C10 -> 0 | L40: =IF(K40>0,RANK(K40,$K$37:$K$60,0),0) -> 0 | N40: =IF($N$32>0,(IF('Noms des participants'!F6>0,'Noms des participants'!F6,"")),"") | O40: ='Flipper 9'!C10 -> 0 | P40: =IF(O40>0,RANK(O40,$O$37:$O$60,0),0) -> 0 | R40: =IF($R$32>0,(IF('Noms des participants'!F6>0,'Noms des participants'!F6,"")),"") | S40: ='Flipper 10'!C10 -> 0 | T40: =IF(S40>0,RANK(S40,$S$37:$S$60,0),0) -> 0
B41: =IF($B$32>0,(IF('Noms des participants'!F7>0,'Noms des participants'!F7,"")),"") | C41: ='Flipper 6'!C11 -> 0 | D41: =IF(C41>0,RANK(C41,$C$37:$C$60,0),0) -> 0 | F41: =IF($F$32>0,(IF('Noms des participants'!F7>0,'Noms des participants'!F7,"")),"") | G41: ='Flipper 7'!C11 -> 0 | H41: =IF(G41>0,RANK(G41,$G$37:$G$60,0),0) -> 0 | J41: =IF($J$32>0,(IF('Noms des participants'!F7>0,'Noms des participants'!F7,"")),"") | K41: ='Flipper 8'!C11 -> 0 | L41: =IF(K41>0,RANK(K41,$K$37:$K$60,0),0) -> 0 | N41: =IF($N$32>0,(IF('Noms des participants'!F7>0,'Noms des participants'!F7,"")),"") | O41: ='Flipper 9'!C11 -> 0 | P41: =IF(O41>0,RANK(O41,$O$37:$O$60,0),0) -> 0 | R41: =IF($R$32>0,(IF('Noms des participants'!F7>0,'Noms des participants'!F7,"")),"") | S41: ='Flipper 10'!C11 -> 0 | T41: =IF(S41>0,RANK(S41,$S$37:$S$60,0),0) -> 0
B42: =IF($B$32>0,(IF('Noms des participants'!F8>0,'Noms des participants'!F8,"")),"") | C42: ='Flipper 6'!C12 -> 0 | D42: =IF(C42>0,RANK(C42,$C$37:$C$60,0),0) -> 0 | F42: =IF($F$32>0,(IF('Noms des participants'!F8>0,'Noms des participants'!F8,"")),"") | G42: ='Flipper 7'!C12 -> 0 | H42: =IF(G42>0,RANK(G42,$G$37:$G$60,0),0) -> 0 | J42: =IF($J$32>0,(IF('Noms des participants'!F8>0,'Noms des participants'!F8,"")),"") | K42: ='Flipper 8'!C12 -> 0 | L42: =IF(K42>0,RANK(K42,$K$37:$K$60,0),0) -> 0 | N42: =IF($N$32>0,(IF('Noms des participants'!F8>0,'Noms des participants'!F8,"")),"") | O42: ='Flipper 9'!C12 -> 0 | P42: =IF(O42>0,RANK(O42,$O$37:$O$60,0),0) -> 0 | R42: =IF($R$32>0,(IF('Noms des participants'!F8>0,'Noms des participants'!F8,"")),"") | S42: ='Flipper 10'!C12 -> 0 | T42: =IF(S42>0,RANK(S42,$S$37:$S$60,0),0) -> 0
B43: =IF($B$32>0,(IF('Noms des participants'!F9>0,'Noms des participants'!F9,"")),"") | C43: ='Flipper 6'!C13 -> 0 | D43: =IF(C43>0,RANK(C43,$C$37:$C$60,0),0) -> 0 | F43: =IF($F$32>0,(IF('Noms des participants'!F9>0,'Noms des participants'!F9,"")),"") | G43: ='Flipper 7'!C13 -> 0 | H43: =IF(G43>0,RANK(G43,$G$37:$G$60,0),0) -> 0 | J43: =IF($J$32>0,(IF('Noms des participants'!F9>0,'Noms des participants'!F9,"")),"") | K43: ='Flipper 8'!C13 -> 0 | L43: =IF(K43>0,RANK(K43,$K$37:$K$60,0),0) -> 0 | N43: =IF($N$32>0,(IF('Noms des participants'!F9>0,'Noms des participants'!F9,"")),"") | O43: ='Flipper 9'!C13 -> 0 | P43: =IF(O43>0,RANK(O43,$O$37:$O$60,0),0) -> 0 | R43: =IF($R$32>0,(IF('Noms des participants'!F9>0,'Noms des participants'!F9,"")),"") | S43: ='Flipper 10'!C13 -> 0 | T43: =IF(S43>0,RANK(S43,$S$37:$S$60,0),0) -> 0
B44: =IF($B$32>0,(IF('Noms des participants'!F10>0,'Noms des participants'!F10,"")),"") | C44: ='Flipper 6'!C14 -> 0 | D44: =IF(C44>0,RANK(C44,$C$37:$C$60,0),0) -> 0 | F44: =IF($F$32>0,(IF('Noms des participants'!F10>0,'Noms des participants'!F10,"")),"") | G44: ='Flipper 7'!C14 -> 0 | H44: =IF(G44>0,RANK(G44,$G$37:$G$60,0),0) -> 0 | J44: =IF($J$32>0,(IF('Noms des participants'!F10>0,'Noms des participants'!F10,"")),"") | K44: ='Flipper 8'!C14 -> 0 | L44: =IF(K44>0,RANK(K44,$K$37:$K$60,0),0) -> 0 | N44: =IF($N$32>0,(IF('Noms des participants'!F10>0,'Noms des participants'!F10,"")),"") | O44: ='Flipper 9'!C14 -> 0 | P44: =IF(O44>0,RANK(O44,$O$37:$O$60,0),0) -> 0 | R44: =IF($R$32>0,(IF('Noms des participants'!F10>0,'Noms des participants'!F10,"")),"") | S44: ='Flipper 10'!C14 -> 0 | T44: =IF(S44>0,RANK(S44,$S$37:$S$60,0),0) -> 0
B45: =IF($B$32>0,(IF('Noms des participants'!F11>0,'Noms des participants'!F11,"")),"") | C45: ='Flipper 6'!C15 -> 0 | D45: =IF(C45>0,RANK(C45,$C$37:$C$60,0),0) -> 0 | F45: =IF($F$32>0,(IF('Noms des participants'!F11>0,'Noms des participants'!F11,"")),"") | G45: ='Flipper 7'!C15 -> 0 | H45: =IF(G45>0,RANK(G45,$G$37:$G$60,0),0) -> 0 | J45: =IF($J$32>0,(IF('Noms des participants'!F11>0,'Noms des participants'!F11,"")),"") | K45: ='Flipper 8'!C15 -> 0 | L45: =IF(K45>0,RANK(K45,$K$37:$K$60,0),0) -> 0 | N45: =IF($N$32>0,(IF('Noms des participants'!F11>0,'Noms des participants'!F11,"")),"") | O45: ='Flipper 9'!C15 -> 0 | P45: =IF(O45>0,RANK(O45,$O$37:$O$60,0),0) -> 0 | R45: =IF($R$32>0,(IF('Noms des participants'!F11>0,'Noms des participants'!F11,"")),"") | S45: ='Flipper 10'!C15 -> 0 | T45: =IF(S45>0,RANK(S45,$S$37:$S$60,0),0) -> 0
B46: =IF($B$32>0,(IF('Noms des participants'!F12>0,'Noms des participants'!F12,"")),"") | C46: ='Flipper 6'!C16 -> 0 | D46: =IF(C46>0,RANK(C46,$C$37:$C$60,0),0) -> 0 | F46: =IF($F$32>0,(IF('Noms des participants'!F12>0,'Noms des participants'!F12,"")),"") | G46: ='Flipper 7'!C16 -> 0 | H46: =IF(G46>0,RANK(G46,$G$37:$G$60,0),0) -> 0 | J46: =IF($J$32>0,(IF('Noms des participants'!F12>0,'Noms des participants'!F12,"")),"") | K46: ='Flipper 8'!C16 -> 0 | L46: =IF(K46>0,RANK(K46,$K$37:$K$60,0),0) -> 0 | N46: =IF($N$32>0,(IF('Noms des participants'!F12>0,'Noms des participants'!F12,"")),"") | O46: ='Flipper 9'!C16 -> 0 | P46: =IF(O46>0,RANK(O46,$O$37:$O$60,0),0) -> 0 | R46: =IF($R$32>0,(IF('Noms des participants'!F12>0,'Noms des participants'!F12,"")),"") | S46: ='Flipper 10'!C16 -> 0 | T46: =IF(S46>0,RANK(S46,$S$37:$S$60,0),0) -> 0
B47: =IF($B$32>0,(IF('Noms des participants'!F13>0,'Noms des participants'!F13,"")),"") | C47: ='Flipper 6'!C17 -> 0 | D47: =IF(C47>0,RANK(C47,$C$37:$C$60,0),0) -> 0 | F47: =IF($F$32>0,(IF('Noms des participants'!F13>0,'Noms des participants'!F13,"")),"") | G47: ='Flipper 7'!C17 -> 0 | H47: =IF(G47>0,RANK(G47,$G$37:$G$60,0),0) -> 0 | J47: =IF($J$32>0,(IF('Noms des participants'!F13>0,'Noms des participants'!F13,"")),"") | K47: ='Flipper 8'!C17 -> 0 | L47: =IF(K47>0,RANK(K47,$K$37:$K$60,0),0) -> 0 | N47: =IF($N$32>0,(IF('Noms des participants'!F13>0,'Noms des participants'!F13,"")),"") | O47: ='Flipper 9'!C17 -> 0 | P47: =IF(O47>0,RANK(O47,$O$37:$O$60,0),0) -> 0 | R47: =IF($R$32>0,(IF('Noms des participants'!F13>0,'Noms des participants'!F13,"")),"") | S47: ='Flipper 10'!C17 -> 0 | T47: =IF(S47>0,RANK(S47,$S$37:$S$60,0),0) -> 0
B48: =IF($B$32>0,(IF('Noms des participants'!F14>0,'Noms des participants'!F14,"")),"") | C48: ='Flipper 6'!C18 -> 0 | D48: =IF(C48>0,RANK(C48,$C$37:$C$60,0),0) -> 0 | F48: =IF($F$32>0,(IF('Noms des participants'!F14>0,'Noms des participants'!F14,"")),"") | G48: ='Flipper 7'!C18 -> 0 | H48: =IF(G48>0,RANK(G48,$G$37:$G$60,0),0) -> 0 | J48: =IF($J$32>0,(IF('Noms des participants'!F14>0,'Noms des participants'!F14,"")),"") | K48: ='Flipper 8'!C18 -> 0 | L48: =IF(K48>0,RANK(K48,$K$37:$K$60,0),0) -> 0 | N48: =IF($N$32>0,(IF('Noms des participants'!F14>0,'Noms des participants'!F14,"")),"") | O48: ='Flipper 9'!C18 -> 0 | P48: =IF(O48>0,RANK(O48,$O$37:$O$60,0),0) -> 0 | R48: =IF($R$32>0,(IF('Noms des participants'!F14>0,'Noms des participants'!F14,"")),"") | S48: ='Flipper 10'!C18 -> 0 | T48: =IF(S48>0,RANK(S48,$S$37:$S$60,0),0) -> 0
... B60: =IF($B$32>0,(IF('Noms des participants'!F26>0,'Noms des participants'!F26,"")),"") | C60: ='Flipper 6'!C30 -> 0 | D60: =IF(C60>0,RANK(C60,$C$37:$C$60,0),0) -> 0 | F60: =IF($F$32>0,(IF('Noms des participants'!F26>0,'Noms des participants'!F26,"")),"") | G60: ='Flipper 7'!C30 -> 0 | H60: =IF(G60>0,RANK(G60,$G$37:$G$60,0),0) -> 0 | J60: =IF($J$32>0,(IF('Noms des participants'!F26>0,'Noms des participants'!F26,"")),"") | K60: ='Flipper 8'!C30 -> 0 | L60: =IF(K60>0,RANK(K60,$K$37:$K$60,0),0) -> 0 | N60: =IF($N$32>0,(IF('Noms des participants'!F26>0,'Noms des participants'!F26,"")),"") | O60: ='Flipper 9'!C30 -> 0 | P60: =IF(O60>0,RANK(O60,$O$37:$O$60,0),0) -> 0 | R60: =IF($R$32>0,(IF('Noms des participants'!F26>0,'Noms des participants'!F26,"")),"") | S60: ='Flipper 10'!C30 -> 0 | T60: =IF(S60>0,RANK(S60,$S$37:$S$60,0),0) -> 0

Sheet Flipper 1
B2: =IF(Flippers!F3>0,Flippers!F3,0) -> 0
B6: Joueur | C6: Score | D6: Rang
B7: =IF($B$2>0,(IF('Noms des participants'!F3>0,'Noms des participants'!F3,"")),"") | D7: =IF(C7>0,RANK(C7,$C$7:$C$33,0),0) -> 0
B8: =IF($B$2>0,(IF('Noms des participants'!F4>0,'Noms des participants'!F4,"")),"") | D8: =IF(C8>0,RANK(C8,$C$7:$C$33,0),0) -> 0
B9: =IF($B$2>0,(IF('Noms des participants'!F5>0,'Noms des participants'!F5,"")),"") | D9: =IF(C9>0,RANK(C9,$C$7:$C$33,0),0) -> 0
B10: =IF($B$2>0,(IF('Noms des participants'!F6>0,'Noms des participants'!F6,"")),"") | D10: =IF(C10>0,RANK(C10,$C$7:$C$33,0),0) -> 0
B11: =IF($B$2>0,(IF('Noms des participants'!F7>0,'Noms des participants'!F7,"")),"") | D11: =IF(C11>0,RANK(C11,$C$7:$C$33,0),0) -> 0
B12: =IF($B$2>0,(IF('Noms des participants'!F8>0,'Noms des participants'!F8,"")),"") | D12: =IF(C12>0,RANK(C12,$C$7:$C$33,0),0) -> 0
B13: =IF($B$2>0,(IF('Noms des participants'!F9>0,'Noms des participants'!F9,"")),"") | D13: =IF(C13>0,RANK(C13,$C$7:$C$33,0),0) -> 0
B14: =IF($B$2>0,(IF('Noms des participants'!F10>0,'Noms des participants'!F10,"")),"") | D14: =IF(C14>0,RANK(C14,$C$7:$C$33,0),0) -> 0
B15: =IF($B$2>0,(IF('Noms des participants'!F11>0,'Noms des participants'!F11,"")),"") | D15: =IF(C15>0,RANK(C15,$C$7:$C$33,0),0) -> 0
B16: =IF($B$2>0,(IF('Noms des participants'!F12>0,'Noms des participants'!F12,"")),"") | D16: =IF(C16>0,RANK(C16,$C$7:$C$33,0),0) -> 0
B17: =IF($B$2>0,(IF('Noms des participants'!F13>0,'Noms des participants'!F13,"")),"") | D17: =IF(C17>0,RANK(C17,$C$7:$C$33,0),0) -> 0
B18: =IF($B$2>0,(IF('Noms des participants'!F14>0,'Noms des participants'!F14,"")),"") | D18: =IF(C18>0,RANK(C18,$C$7:$C$33,0),0) -> 0
... B34: =IF($B$2>0,(IF('Noms des participants'!F30>0,'Noms des participants'!F30,"")),"") | D34: =IF(C34>0,RANK(C34,$C$7:$C$33,0),0) -> 0
D35: =IF(C35>0,RANK(C35,$C$7:$C$33,0),0) -> 0

Sheet Flipper 2
B2: =IF(Flippers!F4>0,Flippers!F4,0) -> 0
B6: Joueur | C6: Score | D6: Rang
B7: =IF($B$2>0,(IF('Noms des participants'!F3>0,'Noms des participants'!F3,"")),"") | D7: =IF(C7>0,RANK(C7,$C$7:$C$33,0),0) -> 0
B8: =IF($B$2>0,(IF('Noms des participants'!F4>0,'Noms des participants'!F4,"")),"") | D8: =IF(C8>0,RANK(C8,$C$7:$C$33,0),0) -> 0
B9: =IF($B$2>0,(IF('Noms des participants'!F5>0,'Noms des participants'!F5,"")),"") | D9: =IF(C9>0,RANK(C9,$C$7:$C$33,0),0) -> 0
B10: =IF($B$2>0,(IF('Noms des participants'!F6>0,'Noms des participants'!F6,"")),"") | D10: =IF(C10>0,RANK(C10,$C$7:$C$33,0),0) -> 0
B11: =IF($B$2>0,(IF('Noms des participants'!F7>0,'Noms des participants'!F7,"")),"") | D11: =IF(C11>0,RANK(C11,$C$7:$C$33,0),0) -> 0
B12: =IF($B$2>0,(IF('Noms des participants'!F8>0,'Noms des participants'!F8,"")),"") | D12: =IF(C12>0,RANK(C12,$C$7:$C$33,0),0) -> 0
B13: =IF($B$2>0,(IF('Noms des participants'!F9>0,'Noms des participants'!F9,"")),"") | D13: =IF(C13>0,RANK(C13,$C$7:$C$33,0),0) -> 0
B14: =IF($B$2>0,(IF('Noms des participants'!F10>0,'Noms des participants'!F10,"")),"") | D14: =IF(C14>0,RANK(C14,$C$7:$C$33,0),0) -> 0
B15: =IF($B$2>0,(IF('Noms des participants'!F11>0,'Noms des participants'!F11,"")),"") | D15: =IF(C15>0,RANK(C15,$C$7:$C$33,0),0) -> 0
B16: =IF($B$2>0,(IF('Noms des participants'!F12>0,'Noms des participants'!F12,"")),"") | D16: =IF(C16>0,RANK(C16,$C$7:$C$33,0),0) -> 0
B17: =IF($B$2>0,(IF('Noms des participants'!F13>0,'Noms des participants'!F13,"")),"") | D17: =IF(C17>0,RANK(C17,$C$7:$C$33,0),0) -> 0
B18: =IF($B$2>0,(IF('Noms des participants'!F14>0,'Noms des participants'!F14,"")),"") | D18: =IF(C18>0,RANK(C18,$C$7:$C$33,0),0) -> 0
... B33: =IF($B$2>0,(IF('Noms des participants'!F29>0,'Noms des participants'!F29,"")),"") | D33: =IF(C33>0,RANK(C33,$C$7:$C$33,0),0) -> 0
B34: =IF($B$2>0,(IF('Noms des participants'!F30>0,'Noms des participants'!F30,"")),"")

Sheet Flipper 3
B2: =IF(Flippers!F5>0,Flippers!F5,0) -> 0
B6: Joueur | C6: Score | D6: Rang
B7: =IF($B$2>0,(IF('Noms des participants'!F3>0,'Noms des participants'!F3,"")),"") | D7: =IF(C7>0,RANK(C7,$C$7:$C$33,0),0) -> 0
B8: =IF($B$2>0,(IF('Noms des participants'!F4>0,'Noms des participants'!F4,"")),"") | D8: =IF(C8>0,RANK(C8,$C$7:$C$33,0),0) -> 0
B9: =IF($B$2>0,(IF('Noms des participants'!F5>0,'Noms des participants'!F5,"")),"") | D9: =IF(C9>0,RANK(C9,$C$7:$C$33,0),0) -> 0
B10: =IF($B$2>0,(IF('Noms des participants'!F6>0,'Noms des participants'!F6,"")),"") | D10: =IF(C10>0,RANK(C10,$C$7:$C$33,0),0) -> 0
B11: =IF($B$2>0,(IF('Noms des participants'!F7>0,'Noms des participants'!F7,"")),"") | D11: =IF(C11>0,RANK(C11,$C$7:$C$33,0),0) -> 0
B12: =IF($B$2>0,(IF('Noms des participants'!F8>0,'Noms des participants'!F8,"")),"") | D12: =IF(C12>0,RANK(C12,$C$7:$C$33,0),0) -> 0
B13: =IF($B$2>0,(IF('Noms des participants'!F9>0,'Noms des participants'!F9,"")),"") | D13: =IF(C13>0,RANK(C13,$C$7:$C$33,0),0) -> 0
B14: =IF($B$2>0,(IF('Noms des participants'!F10>0,'Noms des participants'!F10,"")),"") | D14: =IF(C14>0,RANK(C14,$C$7:$C$33,0),0) -> 0
B15: =IF($B$2>0,(IF('Noms des participants'!F11>0,'Noms des participants'!F11,"")),"") | D15: =IF(C15>0,RANK(C15,$C$7:$C$33,0),0) -> 0
B16: =IF($B$2>0,(IF('Noms des participants'!F12>0,'Noms des participants'!F12,"")),"") | D16: =IF(C16>0,RANK(C16,$C$7:$C$33,0),0) -> 0
B17: =IF($B$2>0,(IF('Noms des participants'!F13>0,'Noms des participants'!F13,"")),"") | D17: =IF(C17>0,RANK(C17,$C$7:$C$33,0),0) -> 0
B18: =IF($B$2>0,(IF('Noms des participants'!F14>0,'Noms des participants'!F14,"")),"") | D18: =IF(C18>0,RANK(C18,$C$7:$C$33,0),0) -> 0
... B34: =IF($B$2>0,(IF('Noms des participants'!F30>0,'Noms des participants'!F30,"")),"") | D34: =IF(C34>0,RANK(C34,$C$7:$C$33,0),0) -> 0

Sheet Flipper 4
B2: =IF(Flippers!F6>0,Flippers!F6,0) -> 0
B6: Joueur | C6: Score | D6: Rang
B7: =IF($B$2>0,(IF('Noms des participants'!F3>0,'Noms des participants'!F3,"")),"") | D7: =IF(C7>0,RANK(C7,$C$7:$C$33,0),0) -> 0
B8: =IF($B$2>0,(IF('Noms des participants'!F4>0,'Noms des participants'!F4,"")),"") | D8: =IF(C8>0,RANK(C8,$C$7:$C$33,0),0) -> 0
B9: =IF($B$2>0,(IF('Noms des participants'!F5>0,'Noms des participants'!F5,"")),"") | D9: =IF(C9>0,RANK(C9,$C$7:$C$33,0),0) -> 0
B10: =IF($B$2>0,(IF('Noms des participants'!F6>0,'Noms des participants'!F6,"")),"") | D10: =IF(C10>0,RANK(C10,$C$7:$C$33,0),0) -> 0
B11: =IF($B$2>0,(IF('Noms des participants'!F7>0,'Noms des participants'!F7,"")),"") | D11: =IF(C11>0,RANK(C11,$C$7:$C$33,0),0) -> 0
B12: =IF($B$2>0,(IF('Noms des participants'!F8>0,'Noms des participants'!F8,"")),"") | D12: =IF(C12>0,RANK(C12,$C$7:$C$33,0),0) -> 0
B13: =IF($B$2>0,(IF('Noms des participants'!F9>0,'Noms des participants'!F9,"")),"") | D13: =IF(C13>0,RANK(C13,$C$7:$C$33,0),0) -> 0
B14: =IF($B$2>0,(IF('Noms des participants'!F10>0,'Noms des participants'!F10,"")),"") | D14: =IF(C14>0,RANK(C14,$C$7:$C$33,0),0) -> 0
B15: =IF($B$2>0,(IF('Noms des participants'!F11>0,'Noms des participants'!F11,"")),"") | D15: =IF(C15>0,RANK(C15,$C$7:$C$33,0),0) -> 0
B16: =IF($B$2>0,(IF('Noms des participants'!F12>0,'Noms des participants'!F12,"")),"") | D16: =IF(C16>0,RANK(C16,$C$7:$C$33,0),0) -> 0
B17: =IF($B$2>0,(IF('Noms des participants'!F13>0,'Noms des participants'!F13,"")),"") | D17: =IF(C17>0,RANK(C17,$C$7:$C$33,0),0) -> 0
B18: =IF($B$2>0,(IF('Noms des participants'!F14>0,'Noms des participants'!F14,"")),"") | D18: =IF(C18>0,RANK(C18,$C$7:$C$33,0),0) -> 0
... B34: =IF($B$2>0,(IF('Noms des participants'!F30>0,'Noms des participants'!F30,"")),"") | D34: =IF(C34>0,RANK(C34,$C$7:$C$33,0),0) -> 0

Sheet Flipper 5
B2: =IF(Flippers!F7>0,Flippers!F7,0) -> 0
B6: Joueur | C6: Score | D6: Rang
B7: =IF($B$2>0,(IF('Noms des participants'!F3>0,'Noms des participants'!F3,"")),"") | D7: =IF(C7>0,RANK(C7,$C$7:$C$33,0),0) -> 0
B8: =IF($B$2>0,(IF('Noms des participants'!F4>0,'Noms des participants'!F4,"")),"") | D8: =IF(C8>0,RANK(C8,$C$7:$C$33,0),0) -> 0
B9: =IF($B$2>0,(IF('Noms des participants'!F5>0,'Noms des participants'!F5,"")),"") | D9: =IF(C9>0,RANK(C9,$C$7:$C$33,0),0) -> 0
B10: =IF($B$2>0,(IF('Noms des participants'!F6>0,'Noms des participants'!F6,"")),"") | D10: =IF(C10>0,RANK(C10,$C$7:$C$33,0),0) -> 0
B11: =IF($B$2>0,(IF('Noms des participants'!F7>0,'Noms des participants'!F7,"")),"") | D11: =IF(C11>0,RANK(C11,$C$7:$C$33,0),0) -> 0
B12: =IF($B$2>0,(IF('Noms des participants'!F8>0,'Noms des participants'!F8,"")),"") | D12: =IF(C12>0,RANK(C12,$C$7:$C$33,0),0) -> 0
B13: =IF($B$2>0,(IF('Noms des participants'!F9>0,'Noms des participants'!F9,"")),"") | D13: =IF(C13>0,RANK(C13,$C$7:$C$33,0),0) -> 0
B14: =IF($B$2>0,(IF('Noms des participants'!F10>0,'Noms des participants'!F10,"")),"") | D14: =IF(C14>0,RANK(C14,$C$7:$C$33,0),0) -> 0
B15: =IF($B$2>0,(IF('Noms des participants'!F11>0,'Noms des participants'!F11,"")),"") | D15: =IF(C15>0,RANK(C15,$C$7:$C$33,0),0) -> 0
B16: =IF($B$2>0,(IF('Noms des participants'!F12>0,'Noms des participants'!F12,"")),"") | D16: =IF(C16>0,RANK(C16,$C$7:$C$33,0),0) -> 0
B17: =IF($B$2>0,(IF('Noms des participants'!F13>0,'Noms des participants'!F13,"")),"") | D17: =IF(C17>0,RANK(C17,$C$7:$C$33,0),0) -> 0
B18: =IF($B$2>0,(IF('Noms des participants'!F14>0,'Noms des participants'!F14,"")),"") | D18: =IF(C18>0,RANK(C18,$C$7:$C$33,0),0) -> 0
... B34: =IF($B$2>0,(IF('Noms des participants'!F30>0,'Noms des participants'!F30,"")),"") | D34: =IF(C34>0,RANK(C34,$C$7:$C$33,0),0) -> 0

Sheet Flipper 6
B2: =IF(Flippers!F8>0,Flippers!F8,0) -> 0
B6: Joueur | C6: Score | D6: Rang
B7: =IF($B$2>0,(IF('Noms des participants'!F3>0,'Noms des participants'!F3,"")),"") | D7: =IF(C7>0,RANK(C7,$C$7:$C$33,0),0) -> 0
B8: =IF($B$2>0,(IF('Noms des participants'!F4>0,'Noms des participants'!F4,"")),"") | D8: =IF(C8>0,RANK(C8,$C$7:$C$33,0),0) -> 0
B9: =IF($B$2>0,(IF('Noms des participants'!F5>0,'Noms des participants'!F5,"")),"") | D9: =IF(C9>0,RANK(C9,$C$7:$C$33,0),0) -> 0
B10: =IF($B$2>0,(IF('Noms des participants'!F6>0,'Noms des participants'!F6,"")),"") | D10: =IF(C10>0,RANK(C10,$C$7:$C$33,0),0) -> 0
B11: =IF($B$2>0,(IF('Noms des participants'!F7>0,'Noms des participants'!F7,"")),"") | D11: =IF(C11>0,RANK(C11,$C$7:$C$33,0),0) -> 0
B12: =IF($B$2>0,(IF('Noms des participants'!F8>0,'Noms des participants'!F8,"")),"") | D12: =IF(C12>0,RANK(C12,$C$7:$C$33,0),0) -> 0
B13: =IF($B$2>0,(IF('Noms des participants'!F9>0,'Noms des participants'!F9,"")),"") | D13: =IF(C13>0,RANK(C13,$C$7:$C$33,0),0) -> 0
B14: =IF($B$2>0,(IF('Noms des participants'!F10>0,'Noms des participants'!F10,"")),"") | D14: =IF(C14>0,RANK(C14,$C$7:$C$33,0),0) -> 0
B15: =IF($B$2>0,(IF('Noms des participants'!F11>0,'Noms des participants'!F11,"")),"") | D15: =IF(C15>0,RANK(C15,$C$7:$C$33,0),0) -> 0
B16: =IF($B$2>0,(IF('Noms des participants'!F12>0,'Noms des participants'!F12,"")),"") | D16: =IF(C16>0,RANK(C16,$C$7:$C$33,0),0) -> 0
B17: =IF($B$2>0,(IF('Noms des participants'!F13>0,'Noms des participants'!F13,"")),"") | D17: =IF(C17>0,RANK(C17,$C$7:$C$33,0),0) -> 0
B18: =IF($B$2>0,(IF('Noms des participants'!F14>0,'Noms des participants'!F14,"")),"") | D18: =IF(C18>0,RANK(C18,$C$7:$C$33,0),0) -> 0
... B34: =IF($B$2>0,(IF('Noms des participants'!F30>0,'Noms des participants'!F30,"")),"") | D34: =IF(C34>0,RANK(C34,$C$7:$C$33,0),0) -> 0
D35: =IF(C35>0,RANK(C35,$C$7:$C$33,0),0) -> 0

Sheet Flipper 7
B2: =IF(Flippers!F9>0,Flippers!F9,0) -> 0
B6: Joueur | C6: Score | D6: Rang
B7: =IF($B$2>0,(IF('Noms des participants'!F3>0,'Noms des participants'!F3,"")),"") | D7: =IF(C7>0,RANK(C7,$C$7:$C$33,0),0) -> 0
B8: =IF($B$2>0,(IF('Noms des participants'!F4>0,'Noms des participants'!F4,"")),"") | D8: =IF(C8>0,RANK(C8,$C$7:$C$33,0),0) -> 0
B9: =IF($B$2>0,(IF('Noms des participants'!F5>0,'Noms des participants'!F5,"")),"") | D9: =IF(C9>0,RANK(C9,$C$7:$C$33,0),0) -> 0
B10: =IF($B$2>0,(IF('Noms des participants'!F6>0,'Noms des participants'!F6,"")),"") | D10: =IF(C10>0,RANK(C10,$C$7:$C$33,0),0) -> 0
B11: =IF($B$2>0,(IF('Noms des participants'!F7>0,'Noms des participants'!F7,"")),"") | D11: =IF(C11>0,RANK(C11,$C$7:$C$33,0),0) -> 0
B12: =IF($B$2>0,(IF('Noms des participants'!F8>0,'Noms des participants'!F8,"")),"") | D12: =IF(C12>0,RANK(C12,$C$7:$C$33,0),0) -> 0
B13: =IF($B$2>0,(IF('Noms des participants'!F9>0,'Noms des participants'!F9,"")),"") | D13: =IF(C13>0,RANK(C13,$C$7:$C$33,0),0) -> 0
B14: =IF($B$2>0,(IF('Noms des participants'!F10>0,'Noms des participants'!F10,"")),"") | D14: =IF(C14>0,RANK(C14,$C$7:$C$33,0),0) -> 0
B15: =IF($B$2>0,(IF('Noms des participants'!F11>0,'Noms des participants'!F11,"")),"") | D15: =IF(C15>0,RANK(C15,$C$7:$C$33,0),0) -> 0
B16: =IF($B$2>0,(IF('Noms des participants'!F12>0,'Noms des participants'!F12,"")),"") | D16: =IF(C16>0,RANK(C16,$C$7:$C$33,0),0) -> 0
B17: =IF($B$2>0,(IF('Noms des participants'!F13>0,'Noms des participants'!F13,"")),"") | D17: =IF(C17>0,RANK(C17,$C$7:$C$33,0),0) -> 0
B18: =IF($B$2>0,(IF('Noms des participants'!F14>0,'Noms des participants'!F14,"")),"") | D18: =IF(C18>0,RANK(C18,$C$7:$C$33,0),0) -> 0
... B34: =IF($B$2>0,(IF('Noms des participants'!F30>0,'Noms des participants'!F30,"")),"") | D34: =IF(C34>0,RANK(C34,$C$7:$C$33,0),0) -> 0

Sheet Flipper 8
B2: =IF(Flippers!F10>0,Flippers!F10,0) -> 0
B6: Joueur | C6: Score | D6: Rang
B7: =IF($B$2>0,(IF('Noms des participants'!F3>0,'Noms des participants'!F3,"")),"") | D7: =IF(C7>0,RANK(C7,$C$7:$C$33,0),0) -> 0
B8: =IF($B$2>0,(IF('Noms des participants'!F4>0,'Noms des participants'!F4,"")),"") | D8: =IF(C8>0,RANK(C8,$C$7:$C$33,0),0) -> 0
B9: =IF($B$2>0,(IF('Noms des participants'!F5>0,'Noms des participants'!F5,"")),"") | D9: =IF(C9>0,RANK(C9,$C$7:$C$33,0),0) -> 0
B10: =IF($B$2>0,(IF('Noms des participants'!F6>0,'Noms des participants'!F6,"")),"") | D10: =IF(C10>0,RANK(C10,$C$7:$C$33,0),0) -> 0
B11: =IF($B$2>0,(IF('Noms des participants'!F7>0,'Noms des participants'!F7,"")),"") | D11: =IF(C11>0,RANK(C11,$C$7:$C$33,0),0) -> 0
B12: =IF($B$2>0,(IF('Noms des participants'!F8>0,'Noms des participants'!F8,"")),"") | D12: =IF(C12>0,RANK(C12,$C$7:$C$33,0),0) -> 0
B13: =IF($B$2>0,(IF('Noms des participants'!F9>0,'Noms des participants'!F9,"")),"") | D13: =IF(C13>0,RANK(C13,$C$7:$C$33,0),0) -> 0
B14: =IF($B$2>0,(IF('Noms des participants'!F10>0,'Noms des participants'!F10,"")),"") | D14: =IF(C14>0,RANK(C14,$C$7:$C$33,0),0) -> 0
B15: =IF($B$2>0,(IF('Noms des participants'!F11>0,'Noms des participants'!F11,"")),"") | D15: =IF(C15>0,RANK(C15,$C$7:$C$33,0),0) -> 0
B16: =IF($B$2>0,(IF('Noms des participants'!F12>0,'Noms des participants'!F12,"")),"") | D16: =IF(C16>0,RANK(C16,$C$7:$C$33,0),0) -> 0
B17: =IF($B$2>0,(IF('Noms des participants'!F13>0,'Noms des participants'!F13,"")),"") | D17: =IF(C17>0,RANK(C17,$C$7:$C$33,0),0) -> 0
B18: =IF($B$2>0,(IF('Noms des participants'!F14>0,'Noms des participants'!F14,"")),"") | D18: =IF(C18>0,RANK(C18,$C$7:$C$33,0),0) -> 0
... B33: =IF($B$2>0,(IF('Noms des participants'!F29>0,'Noms des participants'!F29,"")),"") | D33: =IF(C33>0,RANK(C33,$C$7:$C$33,0),0) -> 0
B34: =IF($B$2>0,(IF('Noms des participants'!F30>0,'Noms des participants'!F30,"")),"")

Sheet Flipper 9
B2: =IF(Flippers!F11>0,Flippers!F11,0) -> 0
B6: Joueur | C6: Score | D6: Rang
B7: =IF($B$2>0,(IF('Noms des participants'!F3>0,'Noms des participants'!F3,"")),"") | D7: =IF(C7>0,RANK(C7,$C$7:$C$33,0),0) -> 0
B8: =IF($B$2>0,(IF('Noms des participants'!F4>0,'Noms des participants'!F4,"")),"") | D8: =IF(C8>0,RANK(C8,$C$7:$C$33,0),0) -> 0
B9: =IF($B$2>0,(IF('Noms des participants'!F5>0,'Noms des participants'!F5,"")),"") | D9: =IF(C9>0,RANK(C9,$C$7:$C$33,0),0) -> 0
B10: =IF($B$2>0,(IF('Noms des participants'!F6>0,'Noms des participants'!F6,"")),"") | D10: =IF(C10>0,RANK(C10,$C$7:$C$33,0),0) -> 0
B11: =IF($B$2>0,(IF('Noms des participants'!F7>0,'Noms des participants'!F7,"")),"") | D11: =IF(C11>0,RANK(C11,$C$7:$C$33,0),0) -> 0
B12: =IF($B$2>0,(IF('Noms des participants'!F8>0,'Noms des participants'!F8,"")),"") | D12: =IF(C12>0,RANK(C12,$C$7:$C$33,0),0) -> 0
B13: =IF($B$2>0,(IF('Noms des participants'!F9>0,'Noms des participants'!F9,"")),"") | D13: =IF(C13>0,RANK(C13,$C$7:$C$33,0),0) -> 0
B14: =IF($B$2>0,(IF('Noms des participants'!F10>0,'Noms des participants'!F10,"")),"") | D14: =IF(C14>0,RANK(C14,$C$7:$C$33,0),0) -> 0
B15: =IF($B$2>0,(IF('Noms des participants'!F11>0,'Noms des participants'!F11,"")),"") | D15: =IF(C15>0,RANK(C15,$C$7:$C$33,0),0) -> 0
B16: =IF($B$2>0,(IF('Noms des participants'!F12>0,'Noms des participants'!F12,"")),"") | D16: =IF(C16>0,RANK(C16,$C$7:$C$33,0),0) -> 0
B17: =IF($B$2>0,(IF('Noms des participants'!F13>0,'Noms des participants'!F13,"")),"") | D17: =IF(C17>0,RANK(C17,$C$7:$C$33,0),0) -> 0
B18: =IF($B$2>0,(IF('Noms des participants'!F14>0,'Noms des participants'!F14,"")),"") | D18: =IF(C18>0,RANK(C18,$C$7:$C$33,0),0) -> 0
... B32: =IF($B$2>0,(IF('Noms des participants'!F28>0,'Noms des participants'!F28,"")),"") | D32: =IF(C32>0,RANK(C32,$C$7:$C$33,0),0) -> 0
B33: =IF($B$2>0,(IF('Noms des participants'!F29>0,'Noms des participants'!F29,"")),"") | D33: =IF(C33>0,RANK(C33,$C$7:$C$33,0),"")
B34: =IF($B$2>0,(IF('Noms des participants'!F30>0,'Noms des participants'!F30,"")),"")

Sheet Flipper 10
B2: =IF(Flippers!F12>0,Flippers!F12,0) -> 0
B6: Joueur | C6: Score | D6: Rang
B7: =IF($B$2>0,(IF('Noms des participants'!F3>0,'Noms des participants'!F3,"")),"") | D7: =IF(C7>0,RANK(C7,$C$7:$C$33,0),0) -> 0
B8: =IF($B$2>0,(IF('Noms des participants'!F4>0,'Noms des participants'!F4,"")),"") | D8: =IF(C8>0,RANK(C8,$C$7:$C$33,0),0) -> 0
B9: =IF($B$2>0,(IF('Noms des participants'!F5>0,'Noms des participants'!F5,"")),"") | D9: =IF(C9>0,RANK(C9,$C$7:$C$33,0),0) -> 0
B10: =IF($B$2>0,(IF('Noms des participants'!F6>0,'Noms des participants'!F6,"")),"") | D10: =IF(C10>0,RANK(C10,$C$7:$C$33,0),0) -> 0
B11: =IF($B$2>0,(IF('Noms des participants'!F7>0,'Noms des participants'!F7,"")),"") | D11: =IF(C11>0,RANK(C11,$C$7:$C$33,0),0) -> 0
B12: =IF($B$2>0,(IF('Noms des participants'!F8>0,'Noms des participants'!F8,"")),"") | D12: =IF(C12>0,RANK(C12,$C$7:$C$33,0),0) -> 0
B13: =IF($B$2>0,(IF('Noms des participants'!F9>0,'Noms des participants'!F9,"")),"") | D13: =IF(C13>0,RANK(C13,$C$7:$C$33,0),0) -> 0
B14: =IF($B$2>0,(IF('Noms des participants'!F10>0,'Noms des participants'!F10,"")),"") | D14: =IF(C14>0,RANK(C14,$C$7:$C$33,0),0) -> 0
B15: =IF($B$2>0,(IF('Noms des participants'!F11>0,'Noms des participants'!F11,"")),"") | D15: =IF(C15>0,RANK(C15,$C$7:$C$33,0),0) -> 0
B16: =IF($B$2>0,(IF('Noms des participants'!F12>0,'Noms des participants'!F12,"")),"") | D16: =IF(C16>0,RANK(C16,$C$7:$C$33,0),0) -> 0
B17: =IF($B$2>0,(IF('Noms des participants'!F13>0,'Noms des participants'!F13,"")),"") | D17: =IF(C17>0,RANK(C17,$C$7:$C$33,0),0) -> 0
B18: =IF($B$2>0,(IF('Noms des participants'!F14>0,'Noms des participants'!F14,"")),"") | D18: =IF(C18>0,RANK(C18,$C$7:$C$33,0),0) -> 0
... B32: =IF($B$2>0,(IF('Noms des participants'!F28>0,'Noms des participants'!F28,"")),"") | D32: =IF(C32>0,RANK(C32,$C$7:$C$33,0),0) -> 0
B33: =IF($B$2>0,(IF('Noms des participants'!F29>0,'Noms des participants'!F29,"")),"") | D33: =IF(C33>0,RANK(C33,$C$7:$C$33,0),"")
B34: =IF($B$2>0,(IF('Noms des participants'!F30>0,'Noms des participants'!F30,"")),"")

Sheet A imprimer
